BEGIN:VCALENDAR
VERSION:2.0
PRODID:-//Molly Ollys Wishes - ECPv6.15.19//NONSGML v1.0//EN
CALSCALE:GREGORIAN
METHOD:PUBLISH
X-WR-CALNAME:Molly Ollys Wishes
X-ORIGINAL-URL:https://mollyolly.co.uk
X-WR-CALDESC:Events for Molly Ollys Wishes
REFRESH-INTERVAL;VALUE=DURATION:PT1H
X-Robots-Tag:noindex
X-PUBLISHED-TTL:PT1H
BEGIN:VTIMEZONE
TZID:UTC
BEGIN:STANDARD
TZOFFSETFROM:+0000
TZOFFSETTO:+0000
TZNAME:UTC
DTSTART:20250101T000000
END:STANDARD
END:VTIMEZONE
BEGIN:VEVENT
DTSTART;VALUE=DATE:20260725
DTEND;VALUE=DATE:20260726
DTSTAMP:20260420T085243
CREATED:20251016T092517Z
LAST-MODIFIED:20251016T092517Z
UID:228484-1784937600-1785023999@mollyolly.co.uk
SUMMARY:2026 Coventry Inflatable 5K
DESCRIPTION:Do you fancy bouncing your way through an Inflatable Obstacle Course like no other\, whilst raising funds for Molly Ollys? \nThe Inflatable 5k Obstacle Course is coming to Coventry on Saturday 25th July 2026 and it’s going to be Epic! The obstacles are BIGGER\, BOUNCIER and BETTER than ever before! You’ll be jumping\, sliding and laughing all the way to the finish line. Grab your friends\, family or tackle it on your own. Lace up your trainers and get ready for the ultimate day out! \nBook your place by visiting the event registration page below. \nRun For Charity – Event Registration Page \n(Entry fee is just £15.60 and minimum fundraising amount is £100) Children between 5 – 15 years old must be accompanied by a paying participating adult (3:1 child : adult ratio).
URL:https://mollyolly.co.uk/event/2026-coventry-inflatable-5k/
LOCATION:Warwick University\, University of Warwick\, Coventry\, CV4 7AL
ATTACH;FMTTYPE=image/jpeg:https://mollyolly.co.uk/wp-content/uploads/2025/10/Inflatable-5k-1.jpg
END:VEVENT
END:VCALENDAR